{
 "currentVersion": 11.5,
 "serviceDescription": "AHO Chart Series provides a mosaicked visualisation of the official paper chart catalogue.\n\nWARNING: This service is not certified for navigation. It is not an official navigational chart and must not be used for navigation or any related operational decision-making. It is designed to support shore-based maritime awareness and analysis.\n\nThe Australian Hydrographic Office (AHO) makes best efforts to update the data within this geospatial service fortnightly. These updates aim to align with the fortnightly issue of Notices to Mariners.\n\nAHO Chart Series can be integrated into various Geographic Information Systems (GIS) and web applications that support RESTful and OGC services.\n\nThe AHO Chart Series provides chart coverage for the waters of: Australia, the Australian Antarctic Territory and Timor Leste (\"AUS\" charts), Papua New Guinea (\"PNG\" charts), and Solomon Islands (\"SLB\" cells).",
 "name": "Basemaps/AHOChartSeries",
 "description": "AHO Chart Series provides a mosaicked visualisation of the official paper chart catalogue.\n\nWARNING: This service is not certified for navigation. It is not an official navigational chart and must not be used for navigation or any related operational decision-making. It is designed to support shore-based maritime awareness and analysis.\n\nThe Australian Hydrographic Office (AHO) makes best efforts to update the data within this geospatial service fortnightly. These updates aim to align with the fortnightly issue of Notices to Mariners.\n\nAHO Chart Series can be integrated into various Geographic Information Systems (GIS) and web applications that support RESTful and OGC services.\n\nThe AHO Chart Series provides chart coverage for the waters of: Australia, the Australian Antarctic Territory and Timor Leste (\"AUS\" charts), Papua New Guinea (\"PNG\" charts), and Solomon Islands (\"SLB\" cells).",
 "extent": {
  "xmin": -180,
  "ymin": -70.63258055988781,
  "xmax": 180,
  "ymax": 30.95000001011219,
  "spatialReference": {
   "wkid": 4326,
   "latestWkid": 4326
  }
 },
 "initialExtent": {
  "xmin": -180,
  "ymin": -70.63258055988781,
  "xmax": 180,
  "ymax": 30.95000001011219,
  "spatialReference": {
   "wkid": 4326,
   "latestWkid": 4326
  }
 },
 "fullExtent": {
  "xmin": -180,
  "ymin": -70.63258055988781,
  "xmax": 180,
  "ymax": 30.95000001011219,
  "spatialReference": {
   "wkid": 4326,
   "latestWkid": 4326
  }
 },
 "sortableFields": "MinPS,MaxPS,LowPS,HighPS,CenterX,CenterY,ZOrder,Shape_Length,Shape_Area,IMAGE_SCALE,DRAW_MIN,DRAW_MAX,EDITION_NUM,DATE_FIRST_EDN,DATE_CURRENT_EDN,DATE_POD",
 "bandCount": 3,
 "pixelType": "U8",
 "minValues": [],
 "maxValues": [],
 "meanValues": [],
 "stdvValues": [],
 "serviceProperties": "NorthWest<\/MosaicMethod>First<\/MosaicOperator>true<\/SortAscending><\/LockImageID>Name<\/TileOrderField>0<\/TileOrderBase>600.000000<\/AvgImageSpacingX>300.000000<\/AvgImageSpacingY>0.0<\/ViewPointX>0.0<\/ViewPointY>0.0<\/ViewPointDefShiftX>0.0<\/ViewPointDefShiftY>None<\/CompressionMethod>75<\/CompressionQuality>0.010000<\/CompressionTolerance>Bilinear<\/SamplingMethod><\/ImageServiceProperties><\/ImageServer>",
 "allowedFields": "Name,MinPS,MaxPS,LowPS,HighPS,Tag,GroupName,ProductName,CenterX,CenterY,ZOrder,Shape_Length,Shape_Area,IMAGE_NAME,IMAGE_TITLE,IMAGE_SCALE,SHEET_NAME,DRAW_MIN,DRAW_MAX,EDITION_NUM,DATE_FIRST_EDN,DATE_CURRENT_EDN,DATE_POD",
 "hasMultidimensions": false,
 "pixelSizeX": 3.3899999765525E-6,
 "pixelSizeY": 3.39E-6,
 "meanPixelSize": 0.3773730724841155,
 "datasetFormat": "AMD",
 "uncompressedSize": 9546487393463499,
 "blockWidth": 2048,
 "blockHeight": 256,
 "compressionType": "None",
 "bandNames": [
  "Band_1",
  "Band_2",
  "Band_3"
 ],
 "allowCopy": true,
 "allowAnalysis": true,
 "itemAccess": false,
 "inspectionCapabilities": "",
 "minPixelSize": 0,
 "maxPixelSize": 0,
 "copyrightText": "NOT FOR NAVIGATION - Australian Hydrographic Office © Commonwealth of Australia 2026 - https://www.defence.gov.au/copyright",
 "serviceDataType": "esriImageServiceDataTypeRGB",
 "serviceSourceType": "esriImageServiceSourceTypeMosaicDataset",
 "objectIdField": "OBJECTID",
 "fields": [
  {
   "name": "OBJECTID",
   "type": "esriFieldTypeOID",
   "alias": "OBJECTID",
   "domain": null
  },
  {
   "name": "Name",
   "type": "esriFieldTypeString",
   "alias": "Name",
   "domain": null,
   "length": 200
  },
  {
   "name": "MinPS",
   "type": "esriFieldTypeDouble",
   "alias": "MinPS",
   "domain": null
  },
  {
   "name": "MaxPS",
   "type": "esriFieldTypeDouble",
   "alias": "MaxPS",
   "domain": null
  },
  {
   "name": "LowPS",
   "type": "esriFieldTypeDouble",
   "alias": "LowPS",
   "domain": null
  },
  {
   "name": "HighPS",
   "type": "esriFieldTypeDouble",
   "alias": "HighPS",
   "domain": null
  },
  {
   "name": "Category",
   "type": "esriFieldTypeInteger",
   "alias": "Category",
   "domain": {
    "type": "codedValue",
    "name": "MosaicCatalogItemCategoryDomain",
    "description": "Catalog item categories.",
    "codedValues": [
     {
      "name": "Unknown",
      "code": 0
     },
     {
      "name": "Primary",
      "code": 1
     },
     {
      "name": "Overview",
      "code": 2
     },
     {
      "name": "Unprocessed Overview",
      "code": 3
     },
     {
      "name": "Partial Overview",
      "code": 4
     },
     {
      "name": "Inactive",
      "code": 5
     },
     {
      "name": "Uploaded",
      "code": 253
     },
     {
      "name": "Incomplete",
      "code": 254
     },
     {
      "name": "Custom",
      "code": 255
     }
    ],
    "mergePolicy": "esriMPTDefaultValue",
    "splitPolicy": "esriSPTDefaultValue"
   }
  },
  {
   "name": "Tag",
   "type": "esriFieldTypeString",
   "alias": "Tag",
   "domain": null,
   "length": 100
  },
  {
   "name": "GroupName",
   "type": "esriFieldTypeString",
   "alias": "GroupName",
   "domain": null,
   "length": 100
  },
  {
   "name": "ProductName",
   "type": "esriFieldTypeString",
   "alias": "ProductName",
   "domain": null,
   "length": 100
  },
  {
   "name": "CenterX",
   "type": "esriFieldTypeDouble",
   "alias": "CenterX",
   "domain": null
  },
  {
   "name": "CenterY",
   "type": "esriFieldTypeDouble",
   "alias": "CenterY",
   "domain": null
  },
  {
   "name": "ZOrder",
   "type": "esriFieldTypeInteger",
   "alias": "ZOrder",
   "domain": null
  },
  {
   "name": "IMAGE_NAME",
   "type": "esriFieldTypeString",
   "alias": "IMAGE_NAME",
   "domain": null,
   "length": 11
  },
  {
   "name": "IMAGE_TITLE",
   "type": "esriFieldTypeString",
   "alias": "IMAGE_TITLE",
   "domain": null,
   "length": 100
  },
  {
   "name": "IMAGE_SCALE",
   "type": "esriFieldTypeInteger",
   "alias": "IMAGE_SCALE",
   "domain": null
  },
  {
   "name": "SHEET_NAME",
   "type": "esriFieldTypeString",
   "alias": "SHEET_NAME",
   "domain": null,
   "length": 8
  },
  {
   "name": "DRAW_MIN",
   "type": "esriFieldTypeDouble",
   "alias": "DRAW_MIN",
   "domain": null
  },
  {
   "name": "DRAW_MAX",
   "type": "esriFieldTypeDouble",
   "alias": "DRAW_MAX",
   "domain": null
  },
  {
   "name": "EDITION_NUM",
   "type": "esriFieldTypeSmallInteger",
   "alias": "EDITION_NUM",
   "domain": null
  },
  {
   "name": "DATE_FIRST_EDN",
   "type": "esriFieldTypeDate",
   "alias": "DATE_FIRST_EDN",
   "domain": null,
   "length": 8
  },
  {
   "name": "DATE_CURRENT_EDN",
   "type": "esriFieldTypeDate",
   "alias": "DATE_CURRENT_EDN",
   "domain": null,
   "length": 8
  },
  {
   "name": "DATE_POD",
   "type": "esriFieldTypeDate",
   "alias": "DATE_POD",
   "domain": null,
   "length": 8
  },
  {
   "name": "Shape",
   "type": "esriFieldTypeGeometry",
   "alias": "Shape",
   "domain": null
  },
  {
   "name": "Shape_Length",
   "type": "esriFieldTypeDouble",
   "alias": "Shape_Length",
   "domain": null
  },
  {
   "name": "Shape_Area",
   "type": "esriFieldTypeDouble",
   "alias": "Shape_Area",
   "domain": null
  }
 ],
 "capabilities": "Catalog,Mensuration,Image,Metadata",
 "defaultMosaicMethod": "Northwest",
 "allowedMosaicMethods": "NorthWest,Center,LockRaster,ByAttribute,Nadir,Viewpoint,Seamline,None",
 "sortField": "",
 "sortValue": null,
 "sortAscending": true,
 "mosaicOperator": "First",
 "maxDownloadSizeLimit": 2048,
 "defaultCompressionQuality": 75,
 "defaultResamplingMethod": "Bilinear",
 "maxImageHeight": 4100,
 "maxImageWidth": 15000,
 "maxRecordCount": 1000,
 "maxDownloadImageCount": 20,
 "maxMosaicImageCount": 800,
 "allowRasterFunction": true,
 "rasterFunctionInfos": [
  {
   "name": "None",
   "description": "A No-Op Function.",
   "help": ""
  }
 ],
 "rasterTypeInfos": [
  {
   "name": "Raster Dataset",
   "description": "Supports all ArcGIS Raster Datasets",
   "help": ""
  }
 ],
 "mensurationCapabilities": "Basic",
 "hasHistograms": false,
 "hasColormap": false,
 "hasRasterAttributeTable": false,
 "minScale": 0,
 "maxScale": 0,
 "exportTilesAllowed": false,
 "supportsStatistics": true,
 "supportsAdvancedQueries": true,
 "editFieldsInfo": null,
 "ownershipBasedAccessControlForRasters": null,
 "allowComputeTiePoints": false,
 "useStandardizedQueries": true,
 "advancedQueryCapabilities": {
  "useStandardizedQueries": true,
  "supportsStatistics": true,
  "supportsOrderBy": true,
  "supportsDistinct": true,
  "supportsPagination": true
 },
 "spatialReference": {
  "wkid": 4326,
  "latestWkid": 4326
 },
 "resampling": false
}
