{
 "currentVersion": 11.5,
 "serviceDescription": "AHO ENC Series is a cached tiled map service that provides a visualisation of the official AusENC catalog. It is published from a static tile package (not dynamically drawn) and is displayed using the S-52 presentation library specification.\n\nWARNING: This service is not certified for navigation. It is not an official navigational chart and must not be used for navigation or any related operational decision-making. It is designed to support shore-based maritime awareness and analysis.\n\nThe Australian Hydrographic Office (AHO) makes best efforts to update the data within this geospatial service weekly. These updates aim to align with the weekly release of the official AusENC service.\n\nAHO ENC Series can be integrated into various Geographic Information Systems (GIS) and web applications that support tiled map services (tile layers).\n\nThe AusENC catalog provides chart coverage for the waters of: Australia, the Australian Antarctic Territory and Timor Leste (\"AU\" cells), Papua New Guinea (\"PG\" cells), and Solomon Islands (\"SB\" cells).\n\nFor a comprehensive overview of electronic charts, Electronic Chart Display Information Systems (ECDIS) and Electronic Chart Systems (ECS), please visit AHO Electronic Charting Information.",
 "name": "Basemaps/AHOENCSeries",
 "description": "AHO ENC Series is a cached tiled map service that provides a visualisation of the official AusENC catalog. It is published from a static tile package (not dynamically drawn) and is displayed using the S-52 presentation library specification.\n\nWARNING: This service is not certified for navigation. It is not an official navigational chart and must not be used for navigation or any related operational decision-making. It is designed to support shore-based maritime awareness and analysis.\n\nThe Australian Hydrographic Office (AHO) makes best efforts to update the data within this geospatial service weekly. These updates aim to align with the weekly release of the official AusENC service.\n\nAHO ENC Series can be integrated into various Geographic Information Systems (GIS) and web applications that support tiled map services (tile layers).\n\nThe AusENC catalog provides chart coverage for the waters of: Australia, the Australian Antarctic Territory and Timor Leste (\"AU\" cells), Papua New Guinea (\"PG\" cells), and Solomon Islands (\"SB\" cells).\n\nFor a comprehensive overview of electronic charts, Electronic Chart Display Information Systems (ECDIS) and Electronic Chart Systems (ECS), please visit AHO Electronic Charting Information.",
 "extent": {
  "xmin": 5009377.090819139,
  "ymin": -1.1068715591940792E7,
  "xmax": 2.0037508350982822E7,
  "ymax": -0.004097912460565567,
  "spatialReference": {
   "wkid": 102100,
   "latestWkid": 3857
  }
 },
 "initialExtent": {
  "xmin": 5009377.090819139,
  "ymin": -1.1068715591940792E7,
  "xmax": 2.0037508350982822E7,
  "ymax": -0.004097912460565567,
  "spatialReference": {
   "wkid": 102100,
   "latestWkid": 3857
  }
 },
 "fullExtent": {
  "xmin": 5009377.090819139,
  "ymin": -1.1068715591940792E7,
  "xmax": 2.0037508350982822E7,
  "ymax": -0.004097912460565567,
  "spatialReference": {
   "wkid": 102100,
   "latestWkid": 3857
  }
 },
 "sortableFields": "",
 "bandCount": 3,
 "pixelType": "U8",
 "minValues": [],
 "maxValues": [],
 "meanValues": [],
 "stdvValues": [],
 "serviceProperties": "Center<\/MosaicMethod>First<\/MosaicOperator>true<\/SortAscending><\/LockImageID><\/TileOrderField>0<\/TileOrderBase>0.000000<\/AvgImageSpacingX>0.000000<\/AvgImageSpacingY>0.0<\/ViewPointX>0.0<\/ViewPointY>0.0<\/ViewPointDefShiftX>0.0<\/ViewPointDefShiftY>None<\/CompressionMethod>75<\/CompressionQuality>0.010000<\/CompressionTolerance>Bilinear<\/SamplingMethod><\/ImageServiceProperties><\/ImageServer>",
 "allowedFields": "",
 "hasMultidimensions": false,
 "pixelSizeX": 0.14929107089999996,
 "pixelSizeY": 0.1492910709,
 "meanPixelSize": 0.1492910709,
 "datasetFormat": "AFR",
 "uncompressedSize": 22390087769653248,
 "blockWidth": 256,
 "blockHeight": 256,
 "compressionType": "None",
 "bandNames": [
  "Band_1",
  "Band_2",
  "Band_3"
 ],
 "allowCopy": true,
 "allowAnalysis": true,
 "itemAccess": false,
 "inspectionCapabilities": "",
 "minPixelSize": 0,
 "maxPixelSize": 0,
 "copyrightText": "NOT FOR NAVIGATION - Australian Hydrographic Office © Commonwealth of Australia 2026 - https://www.defence.gov.au/copyright",
 "serviceDataType": "esriImageServiceDataTypeRGB",
 "serviceSourceType": "esriImageServiceSourceTypeDataset",
 "objectIdField": "",
 "fields": [],
 "capabilities": "Mensuration,Image,Metadata",
 "defaultMosaicMethod": "Center",
 "allowedMosaicMethods": "",
 "sortField": "",
 "sortValue": null,
 "sortAscending": true,
 "mosaicOperator": "First",
 "defaultCompressionQuality": 75,
 "defaultResamplingMethod": "Bilinear",
 "maxImageHeight": 4100,
 "maxImageWidth": 15000,
 "allowRasterFunction": true,
 "rasterFunctionInfos": [
  {
   "name": "None",
   "description": "",
   "help": ""
  }
 ],
 "rasterTypeInfos": [
  {
   "name": "Raster Dataset",
   "description": "Supports all ArcGIS Raster Datasets",
   "help": ""
  }
 ],
 "mensurationCapabilities": "Basic",
 "hasHistograms": false,
 "hasColormap": false,
 "hasRasterAttributeTable": false,
 "minScale": 0,
 "maxScale": 0,
 "exportTilesAllowed": false,
 "supportsStatistics": false,
 "supportsAdvancedQueries": false,
 "editFieldsInfo": null,
 "ownershipBasedAccessControlForRasters": null,
 "allowComputeTiePoints": false,
 "useStandardizedQueries": true,
 "advancedQueryCapabilities": {
  "useStandardizedQueries": true,
  "supportsStatistics": false,
  "supportsOrderBy": false,
  "supportsDistinct": false,
  "supportsPagination": false
 },
 "spatialReference": {
  "wkid": 102100,
  "latestWkid": 3857
 },
 "resampling": false
}
