{
 "currentVersion": 11.5,
 "serviceDescription": "This service has been built to display a simplified representation of the AusENC product catalogue. \n\nThe layers that are present within the service include. 1. Information about the chart display 2. Natural and man-made features, port features 3. Soundings, Depths, currents, etc 4. Traffic routes. etc. \n\nBy accessing the information provided by this service, each user waives and releases the Commonwealth of Australia to the full extent permitted by law from any and all claims relating to the usage of material or information made available through the service. In no event shall the Commonwealth of Australia be liable for any incidental or consequential damages resulting from use of this service. In particular and without limit to the generality of the above, information provided in publications of the Commonwealth Government is considered to be true and correct at the time of publication. Changes in circumstances after time of publication may impact on the accuracy of this information and the Commonwealth Government gives no assurance as to the accuracy of any information or advice contained. (See https://hydro.gov.au/disclaimer.htm)",
 "name": "Basemaps/AHOENCSimplifiedSeries",
 "description": "This service has been built to display a simplified representation of the AusENC product catalogue. \n\nThe layers that are present within the service include. 1. Information about the chart display 2. Natural and man-made features, port features 3. Soundings, Depths, currents, etc 4. Traffic routes. etc. \n\nBy accessing the information provided by this service, each user waives and releases the Commonwealth of Australia to the full extent permitted by law from any and all claims relating to the usage of material or information made available through the service. In no event shall the Commonwealth of Australia be liable for any incidental or consequential damages resulting from use of this service. In particular and without limit to the generality of the above, information provided in publications of the Commonwealth Government is considered to be true and correct at the time of publication. Changes in circumstances after time of publication may impact on the accuracy of this information and the Commonwealth Government gives no assurance as to the accuracy of any information or advice contained. (See https://hydro.gov.au/disclaimer.htm)",
 "extent": {
  "xmin": 5009377.090819139,
  "ymin": -1.1068715591940792E7,
  "xmax": 2.0037508350982822E7,
  "ymax": -0.004097912460565567,
  "spatialReference": {
   "wkid": 102100,
   "latestWkid": 3857
  }
 },
 "initialExtent": {
  "xmin": 5009377.090819139,
  "ymin": -1.1068715591940792E7,
  "xmax": 2.0037508350982822E7,
  "ymax": -0.004097912460565567,
  "spatialReference": {
   "wkid": 102100,
   "latestWkid": 3857
  }
 },
 "fullExtent": {
  "xmin": 5009377.090819139,
  "ymin": -1.1068715591940792E7,
  "xmax": 2.0037508350982822E7,
  "ymax": -0.004097912460565567,
  "spatialReference": {
   "wkid": 102100,
   "latestWkid": 3857
  }
 },
 "sortableFields": "",
 "bandCount": 3,
 "pixelType": "U8",
 "minValues": [],
 "maxValues": [],
 "meanValues": [],
 "stdvValues": [],
 "serviceProperties": "Center<\/MosaicMethod>First<\/MosaicOperator>true<\/SortAscending><\/LockImageID><\/TileOrderField>0<\/TileOrderBase>0.000000<\/AvgImageSpacingX>0.000000<\/AvgImageSpacingY>0.0<\/ViewPointX>0.0<\/ViewPointY>0.0<\/ViewPointDefShiftX>0.0<\/ViewPointDefShiftY>None<\/CompressionMethod>75<\/CompressionQuality>0.010000<\/CompressionTolerance>Bilinear<\/SamplingMethod><\/ImageServiceProperties><\/ImageServer>",
 "allowedFields": "",
 "hasMultidimensions": false,
 "pixelSizeX": 0.14929107089999996,
 "pixelSizeY": 0.1492910709,
 "meanPixelSize": 0.1492910709,
 "datasetFormat": "AFR",
 "uncompressedSize": 22390087769653248,
 "blockWidth": 256,
 "blockHeight": 256,
 "compressionType": "None",
 "bandNames": [
  "Band_1",
  "Band_2",
  "Band_3"
 ],
 "allowCopy": true,
 "allowAnalysis": true,
 "itemAccess": false,
 "inspectionCapabilities": "",
 "minPixelSize": 0,
 "maxPixelSize": 0,
 "copyrightText": "NOT FOR NAVIGATION - Australian Hydrographic Office © Commonwealth of Australia 2026 - https://www.defence.gov.au/copyright",
 "serviceDataType": "esriImageServiceDataTypeRGB",
 "serviceSourceType": "esriImageServiceSourceTypeDataset",
 "objectIdField": "",
 "fields": [],
 "capabilities": "Mensuration,Image,Metadata",
 "defaultMosaicMethod": "Center",
 "allowedMosaicMethods": "",
 "sortField": "",
 "sortValue": null,
 "sortAscending": true,
 "mosaicOperator": "First",
 "defaultCompressionQuality": 75,
 "defaultResamplingMethod": "Bilinear",
 "maxImageHeight": 4100,
 "maxImageWidth": 15000,
 "allowRasterFunction": true,
 "rasterFunctionInfos": [
  {
   "name": "None",
   "description": "",
   "help": ""
  }
 ],
 "rasterTypeInfos": [
  {
   "name": "Raster Dataset",
   "description": "Supports all ArcGIS Raster Datasets",
   "help": ""
  }
 ],
 "mensurationCapabilities": "Basic",
 "hasHistograms": false,
 "hasColormap": false,
 "hasRasterAttributeTable": false,
 "minScale": 0,
 "maxScale": 0,
 "exportTilesAllowed": false,
 "supportsStatistics": false,
 "supportsAdvancedQueries": false,
 "editFieldsInfo": null,
 "ownershipBasedAccessControlForRasters": null,
 "allowComputeTiePoints": false,
 "useStandardizedQueries": true,
 "advancedQueryCapabilities": {
  "useStandardizedQueries": true,
  "supportsStatistics": false,
  "supportsOrderBy": false,
  "supportsDistinct": false,
  "supportsPagination": false
 },
 "spatialReference": {
  "wkid": 102100,
  "latestWkid": 3857
 },
 "resampling": false
}
