View In:
ArcGIS JavaScript
ArcGIS Online Map Viewer
ArcGIS Earth
Service Description: A mosaic (raster dataset) representing the current HydroScheme Industry Partnership Program (HIPP) acquisition of hydrographic survey data. Requests for data at 30m resolution can be made through the (AusSeabed Marine Data Portal (ga.gov.au). Some data displayed may not yet be available.
Name: Products/HydroScheme_Coverages_30m
Description: A mosaic (raster dataset) representing the current HydroScheme Industry Partnership Program (HIPP) acquisition of hydrographic survey data. Requests for data at 30m resolution can be made through the (AusSeabed Marine Data Portal (ga.gov.au). Some data displayed may not yet be available.
Single Fused Map Cache: false
Extent:
XMin: 114.71428268749997
YMin: -41.011307599999995
XMax: 153.60278268749997
YMax: -9.379307599999997
Spatial Reference: 4326
(4326)
LatestVCSWkid(0)
Initial Extent:
XMin: 114.71428268749997
YMin: -41.011307599999995
XMax: 153.60278268749997
YMax: -9.379307599999997
Spatial Reference: 4326
(4326)
LatestVCSWkid(0)
Full Extent:
XMin: 114.71428268749997
YMin: -41.011307599999995
XMax: 153.60278268749997
YMax: -9.379307599999997
Spatial Reference: 4326
(4326)
LatestVCSWkid(0)
Pixel Size X: 2.4999999999999995E-4
Pixel Size Y: 2.5E-4
Band Count: 4
Pixel Type: U8
RasterFunction Infos: {"rasterFunctionInfos": [{
"name": "None",
"description": "",
"help": ""
}]}
Mensuration Capabilities: Basic
Inspection Capabilities:
Has Histograms: false
Has Colormap: false
Has Multi Dimensions : false
Rendering Rule:
Min Scale: 0
Max Scale: 0
Resampling: false
Copyright Text: Australian Hydrographic Office © Commonwealth of Australia 2026 - https://www.defence.gov.au/copyright
Service Data Type: esriImageServiceDataTypeGeneric
Min Values: N/A
Max Values: N/A
Mean Values: N/A
Standard Deviation Values: N/A
Object ID Field: OBJECTID
Fields:
-
OBJECTID
(
type: esriFieldTypeOID, alias: OBJECTID
)
-
Shape
(
type: esriFieldTypeGeometry, alias: Shape
)
-
Name
(
type: esriFieldTypeString, alias: Name, length: 200
)
-
MinPS
(
type: esriFieldTypeDouble, alias: MinPS
)
-
MaxPS
(
type: esriFieldTypeDouble, alias: MaxPS
)
-
LowPS
(
type: esriFieldTypeDouble, alias: LowPS
)
-
HighPS
(
type: esriFieldTypeDouble, alias: HighPS
)
-
Category
(
type: esriFieldTypeInteger, alias: Category
, Coded Values:
[0: Unknown]
, [1: Primary]
, [2: Overview]
, ...6 more...
)
-
Tag
(
type: esriFieldTypeString, alias: Tag, length: 100
)
-
GroupName
(
type: esriFieldTypeString, alias: GroupName, length: 100
)
-
ProductName
(
type: esriFieldTypeString, alias: ProductName, length: 100
)
-
CenterX
(
type: esriFieldTypeDouble, alias: CenterX
)
-
CenterY
(
type: esriFieldTypeDouble, alias: CenterY
)
-
ZOrder
(
type: esriFieldTypeInteger, alias: ZOrder
)
-
Shape_Length
(
type: esriFieldTypeDouble, alias: Shape_Length
)
-
Shape_Area
(
type: esriFieldTypeDouble, alias: Shape_Area
)
-
HydroScheme
(
type: esriFieldTypeString, alias: HydroScheme, length: 50
, Coded Values:
[HydroScheme 2020: HydroScheme 2020]
, [HydroScheme 2021: HydroScheme 2021]
, [HydroScheme 2022: HydroScheme 2022]
, ...5 more...
)
Default Mosaic Method: Northwest
Allowed Mosaic Methods: NorthWest,Center,LockRaster,ByAttribute,Nadir,Viewpoint,Seamline,None
SortField:
SortValue: null
Mosaic Operator: First
Default Compression Quality: 75
Default Resampling Method: Bilinear
Max Record Count: 1000
Max Image Height: 4100
Max Image Width: 15000
Max Download Image Count: 20
Max Mosaic Image Count: 20
Allow Raster Function: true
Allow Copy: true
Allow Analysis: true
Allow Compute TiePoints: false
Supports Statistics: true
Supports Advanced Queries: true
Use StandardizedQueries: true
Raster Type Infos:
Name: Raster Dataset
Description: Supports all ArcGIS Raster Datasets
Help:
Has Raster Attribute Table: false
Edit Fields Info: null
Ownership Based AccessControl For Rasters: null
Child Resources:
Info
Statistics
Key Properties
Legend
Raster Function Infos
Supported Operations:
Export Image
Query
Identify
Measure
Compute Histograms
Compute Statistics Histograms
Get Samples
Compute Class Statistics
Query GPS Info
Find Images
Image to Map
Map to Image
Measure from Image
Image to Map Multiray
Query Boundary
Compute Pixel Location
Compute Angles
Validate
Project