View In:
ArcGIS JavaScript
ArcGIS Online Map Viewer
ArcGIS Earth
Service Description: AHO Chart Series provides a mosaicked visualisation of the official paper chart catalogue.
WARNING: This service is not certified for navigation. It is not an official navigational chart and must not be used for navigation or any related operational decision-making. It is designed to support shore-based maritime awareness and analysis.
The Australian Hydrographic Office (AHO) makes best efforts to update the data within this geospatial service fortnightly. These updates aim to align with the fortnightly issue of Notices to Mariners.
AHO Chart Series can be integrated into various Geographic Information Systems (GIS) and web applications that support RESTful and OGC services.
The AHO Chart Series provides chart coverage for the waters of: Australia, the Australian Antarctic Territory and Timor Leste ("AUS" charts), Papua New Guinea ("PNG" charts), and Solomon Islands ("SLB" cells).
Name: Basemaps/AHOChartSeries
Description: AHO Chart Series provides a mosaicked visualisation of the official paper chart catalogue.
WARNING: This service is not certified for navigation. It is not an official navigational chart and must not be used for navigation or any related operational decision-making. It is designed to support shore-based maritime awareness and analysis.
The Australian Hydrographic Office (AHO) makes best efforts to update the data within this geospatial service fortnightly. These updates aim to align with the fortnightly issue of Notices to Mariners.
AHO Chart Series can be integrated into various Geographic Information Systems (GIS) and web applications that support RESTful and OGC services.
The AHO Chart Series provides chart coverage for the waters of: Australia, the Australian Antarctic Territory and Timor Leste ("AUS" charts), Papua New Guinea ("PNG" charts), and Solomon Islands ("SLB" cells).
Single Fused Map Cache: false
Extent:
XMin: -180.0
YMin: -70.63258055988781
XMax: 180.0
YMax: 30.95000001011219
Spatial Reference: 4326
(4326)
LatestVCSWkid(0)
Initial Extent:
XMin: -180.0
YMin: -70.63258055988781
XMax: 180.0
YMax: 30.95000001011219
Spatial Reference: 4326
(4326)
LatestVCSWkid(0)
Full Extent:
XMin: -180.0
YMin: -70.63258055988781
XMax: 180.0
YMax: 30.95000001011219
Spatial Reference: 4326
(4326)
LatestVCSWkid(0)
Pixel Size X: 3.3899999765525E-6
Pixel Size Y: 3.39E-6
Band Count: 3
Pixel Type: U8
RasterFunction Infos: {"rasterFunctionInfos": [{
"name": "None",
"description": "A No-Op Function.",
"help": ""
}]}
Mensuration Capabilities: Basic
Inspection Capabilities:
Has Histograms: false
Has Colormap: false
Has Multi Dimensions : false
Rendering Rule:
Min Scale: 0
Max Scale: 0
Resampling: false
Copyright Text: NOT FOR NAVIGATION - Australian Hydrographic Office © Commonwealth of Australia 2026 - https://www.defence.gov.au/copyright
Service Data Type: esriImageServiceDataTypeRGB
Min Values: N/A
Max Values: N/A
Mean Values: N/A
Standard Deviation Values: N/A
Object ID Field: OBJECTID
Fields:
-
OBJECTID
(
type: esriFieldTypeOID, alias: OBJECTID
)
-
Name
(
type: esriFieldTypeString, alias: Name, length: 200
)
-
MinPS
(
type: esriFieldTypeDouble, alias: MinPS
)
-
MaxPS
(
type: esriFieldTypeDouble, alias: MaxPS
)
-
LowPS
(
type: esriFieldTypeDouble, alias: LowPS
)
-
HighPS
(
type: esriFieldTypeDouble, alias: HighPS
)
-
Category
(
type: esriFieldTypeInteger, alias: Category
, Coded Values:
[0: Unknown]
, [1: Primary]
, [2: Overview]
, ...6 more...
)
-
Tag
(
type: esriFieldTypeString, alias: Tag, length: 100
)
-
GroupName
(
type: esriFieldTypeString, alias: GroupName, length: 100
)
-
ProductName
(
type: esriFieldTypeString, alias: ProductName, length: 100
)
-
CenterX
(
type: esriFieldTypeDouble, alias: CenterX
)
-
CenterY
(
type: esriFieldTypeDouble, alias: CenterY
)
-
ZOrder
(
type: esriFieldTypeInteger, alias: ZOrder
)
-
IMAGE_NAME
(
type: esriFieldTypeString, alias: IMAGE_NAME, length: 11
)
-
IMAGE_TITLE
(
type: esriFieldTypeString, alias: IMAGE_TITLE, length: 100
)
-
IMAGE_SCALE
(
type: esriFieldTypeInteger, alias: IMAGE_SCALE
)
-
SHEET_NAME
(
type: esriFieldTypeString, alias: SHEET_NAME, length: 8
)
-
DRAW_MIN
(
type: esriFieldTypeDouble, alias: DRAW_MIN
)
-
DRAW_MAX
(
type: esriFieldTypeDouble, alias: DRAW_MAX
)
-
EDITION_NUM
(
type: esriFieldTypeSmallInteger, alias: EDITION_NUM
)
-
DATE_FIRST_EDN
(
type: esriFieldTypeDate, alias: DATE_FIRST_EDN, length: 8
)
-
DATE_CURRENT_EDN
(
type: esriFieldTypeDate, alias: DATE_CURRENT_EDN, length: 8
)
-
DATE_POD
(
type: esriFieldTypeDate, alias: DATE_POD, length: 8
)
-
Shape
(
type: esriFieldTypeGeometry, alias: Shape
)
-
Shape_Length
(
type: esriFieldTypeDouble, alias: Shape_Length
)
-
Shape_Area
(
type: esriFieldTypeDouble, alias: Shape_Area
)
Default Mosaic Method: Northwest
Allowed Mosaic Methods: NorthWest,Center,LockRaster,ByAttribute,Nadir,Viewpoint,Seamline,None
SortField:
SortValue: null
Mosaic Operator: First
Default Compression Quality: 75
Default Resampling Method: Bilinear
Max Record Count: 1000
Max Image Height: 4100
Max Image Width: 15000
Max Download Image Count: 20
Max Mosaic Image Count: 800
Allow Raster Function: true
Allow Copy: true
Allow Analysis: true
Allow Compute TiePoints: false
Supports Statistics: true
Supports Advanced Queries: true
Use StandardizedQueries: true
Raster Type Infos:
Name: Raster Dataset
Description: Supports all ArcGIS Raster Datasets
Help:
Has Raster Attribute Table: false
Edit Fields Info: null
Ownership Based AccessControl For Rasters: null
Child Resources:
Info
Statistics
Key Properties
Legend
Raster Function Infos
Supported Operations:
Export Image
Query
Identify
Measure
Compute Histograms
Compute Statistics Histograms
Get Samples
Compute Class Statistics
Query GPS Info
Find Images
Image to Map
Map to Image
Measure from Image
Image to Map Multiray
Query Boundary
Compute Pixel Location
Compute Angles
Validate
Project