View In:
ArcGIS JavaScript
ArcGIS Online Map Viewer
ArcGIS Earth
Service Description: AHO ENC Series is a cached tiled map service that provides a visualisation of the official AusENC catalog. It is published from a static tile package (not dynamically drawn) and is displayed using the S-52 presentation library specification.
WARNING: This service is not certified for navigation. It is not an official navigational chart and must not be used for navigation or any related operational decision-making. It is designed to support shore-based maritime awareness and analysis.
The Australian Hydrographic Office (AHO) makes best efforts to update the data within this geospatial service weekly. These updates aim to align with the weekly release of the official AusENC service.
AHO ENC Series can be integrated into various Geographic Information Systems (GIS) and web applications that support tiled map services (tile layers).
The AusENC catalog provides chart coverage for the waters of: Australia, the Australian Antarctic Territory and Timor Leste ("AU" cells), Papua New Guinea ("PG" cells), and Solomon Islands ("SB" cells).
For a comprehensive overview of electronic charts, Electronic Chart Display Information Systems (ECDIS) and Electronic Chart Systems (ECS), please visit AHO Electronic Charting Information.
Name: Basemaps/AHOENCSeries
Description: AHO ENC Series is a cached tiled map service that provides a visualisation of the official AusENC catalog. It is published from a static tile package (not dynamically drawn) and is displayed using the S-52 presentation library specification.
WARNING: This service is not certified for navigation. It is not an official navigational chart and must not be used for navigation or any related operational decision-making. It is designed to support shore-based maritime awareness and analysis.
The Australian Hydrographic Office (AHO) makes best efforts to update the data within this geospatial service weekly. These updates aim to align with the weekly release of the official AusENC service.
AHO ENC Series can be integrated into various Geographic Information Systems (GIS) and web applications that support tiled map services (tile layers).
The AusENC catalog provides chart coverage for the waters of: Australia, the Australian Antarctic Territory and Timor Leste ("AU" cells), Papua New Guinea ("PG" cells), and Solomon Islands ("SB" cells).
For a comprehensive overview of electronic charts, Electronic Chart Display Information Systems (ECDIS) and Electronic Chart Systems (ECS), please visit AHO Electronic Charting Information.
Single Fused Map Cache: false
Extent:
XMin: 5009377.090819139
YMin: -1.1068715591940792E7
XMax: 2.0037508350982822E7
YMax: -0.004097912460565567
Spatial Reference: 102100
(3857)
LatestVCSWkid(0)
Initial Extent:
XMin: 5009377.090819139
YMin: -1.1068715591940792E7
XMax: 2.0037508350982822E7
YMax: -0.004097912460565567
Spatial Reference: 102100
(3857)
LatestVCSWkid(0)
Full Extent:
XMin: 5009377.090819139
YMin: -1.1068715591940792E7
XMax: 2.0037508350982822E7
YMax: -0.004097912460565567
Spatial Reference: 102100
(3857)
LatestVCSWkid(0)
Pixel Size X: 0.14929107089999996
Pixel Size Y: 0.1492910709
Band Count: 3
Pixel Type: U8
RasterFunction Infos: {"rasterFunctionInfos": [{
"name": "None",
"description": "",
"help": ""
}]}
Mensuration Capabilities: Basic
Inspection Capabilities:
Has Histograms: false
Has Colormap: false
Has Multi Dimensions : false
Rendering Rule:
Min Scale: 0
Max Scale: 0
Resampling: false
Copyright Text: NOT FOR NAVIGATION - Australian Hydrographic Office © Commonwealth of Australia 2026 - https://www.defence.gov.au/copyright
Service Data Type: esriImageServiceDataTypeRGB
Min Values: N/A
Max Values: N/A
Mean Values: N/A
Standard Deviation Values: N/A
Object ID Field:
Fields:
None
Default Mosaic Method: Center
Allowed Mosaic Methods:
SortField:
SortValue: null
Mosaic Operator: First
Default Compression Quality: 75
Default Resampling Method: Bilinear
Max Record Count: null
Max Image Height: 4100
Max Image Width: 15000
Max Download Image Count: null
Max Mosaic Image Count: null
Allow Raster Function: true
Allow Copy: true
Allow Analysis: true
Allow Compute TiePoints: false
Supports Statistics: false
Supports Advanced Queries: false
Use StandardizedQueries: true
Raster Type Infos:
Name: Raster Dataset
Description: Supports all ArcGIS Raster Datasets
Help:
Has Raster Attribute Table: false
Edit Fields Info: null
Ownership Based AccessControl For Rasters: null
Child Resources:
Info
Statistics
Key Properties
Legend
Raster Function Infos
Supported Operations:
Export Image
Identify
Measure
Compute Histograms
Compute Statistics Histograms
Get Samples
Compute Class Statistics
Query Boundary
Compute Pixel Location
Compute Angles
Validate
Project