View In:
ArcGIS JavaScript
ArcGIS Online Map Viewer
ArcGIS Earth
Service Description: This service has been built to display a simplified representation of the AusENC product catalogue. The layers that are present within the service include. 1. Information about the chart display 2. Natural and man-made features, port features 3. Soundings, Depths, currents, etc 4. Traffic routes. etc. By accessing the information provided by this service, each user waives and releases the Commonwealth of Australia to the full extent permitted by law from any and all claims relating to the usage of material or information made available through the service. In no event shall the Commonwealth of Australia be liable for any incidental or consequential damages resulting from use of this service. In particular and without limit to the generality of the above, information provided in publications of the Commonwealth Government is considered to be true and correct at the time of publication. Changes in circumstances after time of publication may impact on the accuracy of this information and the Commonwealth Government gives no assurance as to the accuracy of any information or advice contained. (See https://hydro.gov.au/disclaimer.htm)
Name: Basemaps/AHOENCSimplifiedSeries
Description: This service has been built to display a simplified representation of the AusENC product catalogue. The layers that are present within the service include. 1. Information about the chart display 2. Natural and man-made features, port features 3. Soundings, Depths, currents, etc 4. Traffic routes. etc. By accessing the information provided by this service, each user waives and releases the Commonwealth of Australia to the full extent permitted by law from any and all claims relating to the usage of material or information made available through the service. In no event shall the Commonwealth of Australia be liable for any incidental or consequential damages resulting from use of this service. In particular and without limit to the generality of the above, information provided in publications of the Commonwealth Government is considered to be true and correct at the time of publication. Changes in circumstances after time of publication may impact on the accuracy of this information and the Commonwealth Government gives no assurance as to the accuracy of any information or advice contained. (See https://hydro.gov.au/disclaimer.htm)
Single Fused Map Cache: false
Extent:
XMin: 5009377.090819139
YMin: -1.1068715591940792E7
XMax: 2.0037508350982822E7
YMax: -0.004097912460565567
Spatial Reference: 102100
(3857)
LatestVCSWkid(0)
Initial Extent:
XMin: 5009377.090819139
YMin: -1.1068715591940792E7
XMax: 2.0037508350982822E7
YMax: -0.004097912460565567
Spatial Reference: 102100
(3857)
LatestVCSWkid(0)
Full Extent:
XMin: 5009377.090819139
YMin: -1.1068715591940792E7
XMax: 2.0037508350982822E7
YMax: -0.004097912460565567
Spatial Reference: 102100
(3857)
LatestVCSWkid(0)
Pixel Size X: 0.14929107089999996
Pixel Size Y: 0.1492910709
Band Count: 3
Pixel Type: U8
RasterFunction Infos: {"rasterFunctionInfos": [{
"name": "None",
"description": "",
"help": ""
}]}
Mensuration Capabilities: Basic
Inspection Capabilities:
Has Histograms: false
Has Colormap: false
Has Multi Dimensions : false
Rendering Rule:
Min Scale: 0
Max Scale: 0
Resampling: false
Copyright Text: NOT FOR NAVIGATION - Australian Hydrographic Office © Commonwealth of Australia 2026 - https://www.defence.gov.au/copyright
Service Data Type: esriImageServiceDataTypeRGB
Min Values: N/A
Max Values: N/A
Mean Values: N/A
Standard Deviation Values: N/A
Object ID Field:
Fields:
None
Default Mosaic Method: Center
Allowed Mosaic Methods:
SortField:
SortValue: null
Mosaic Operator: First
Default Compression Quality: 75
Default Resampling Method: Bilinear
Max Record Count: null
Max Image Height: 4100
Max Image Width: 15000
Max Download Image Count: null
Max Mosaic Image Count: null
Allow Raster Function: true
Allow Copy: true
Allow Analysis: true
Allow Compute TiePoints: false
Supports Statistics: false
Supports Advanced Queries: false
Use StandardizedQueries: true
Raster Type Infos:
Name: Raster Dataset
Description: Supports all ArcGIS Raster Datasets
Help:
Has Raster Attribute Table: false
Edit Fields Info: null
Ownership Based AccessControl For Rasters: null
Child Resources:
Info
Statistics
Key Properties
Legend
Raster Function Infos
Supported Operations:
Export Image
Identify
Measure
Compute Histograms
Compute Statistics Histograms
Get Samples
Compute Class Statistics
Query Boundary
Compute Pixel Location
Compute Angles
Validate
Project